Package: CAGEr Version: 2.13.0 Command: /home/biocbuild/bbs-3.21-bioc/R/bin/R CMD INSTALL CAGEr StartedAt: 2025-02-19 15:56:53 -0500 (Wed, 19 Feb 2025) EndedAt: 2025-02-19 15:57:56 -0500 (Wed, 19 Feb 2025) EllapsedTime: 62.8 seconds RetCode: 0 Status: OK