Package: CAGEr Version: 2.13.0 Command: /home/biocbuild/bbs-3.21-bioc/R/bin/R CMD check --install=check:CAGEr.install-out.txt --library=/home/biocbuild/bbs-3.21-bioc/R/site-library --timings CAGEr_2.13.0.tar.gz StartedAt: 2025-02-20 20:31:39 -0500 (Thu, 20 Feb 2025) EndedAt: 2025-02-20 20:43:52 -0500 (Thu, 20 Feb 2025) EllapsedTime: 733.0 seconds RetCode: 0 Status: OK CheckDir: CAGEr.Rcheck Warnings: 0