Package: CAGEfightR Version: 1.27.0 Command: E:\biocbuild\bbs-3.21-bioc\R\bin\R.exe CMD check --no-multiarch --install=check:CAGEfightR.install-out.txt --library=E:\biocbuild\bbs-3.21-bioc\R\library --no-vignettes --timings CAGEfightR_1.27.0.tar.gz StartedAt: 2025-02-19 23:18:58 -0500 (Wed, 19 Feb 2025) EndedAt: 2025-02-19 23:27:42 -0500 (Wed, 19 Feb 2025) EllapsedTime: 523.9 seconds RetCode: 0 Status: OK CheckDir: CAGEfightR.Rcheck Warnings: 0