Package: CAGEfightR Version: 1.27.0 Command: rm -rf CAGEfightR.buildbin-libdir && mkdir CAGEfightR.buildbin-libdir && E:\biocbuild\bbs-3.21-bioc\R\bin\R.exe CMD INSTALL --build --library=CAGEfightR.buildbin-libdir CAGEfightR_1.27.0.tar.gz StartedAt: 2025-02-20 07:24:38 -0500 (Thu, 20 Feb 2025) EndedAt: 2025-02-20 07:26:22 -0500 (Thu, 20 Feb 2025) EllapsedTime: 103.9 seconds RetCode: 0 Status: OK PackageFile: CAGEfightR_1.27.0.zip PackageFileSize: 2.495 MiB