Package: CAFE Version: 1.43.0 Command: E:\biocbuild\bbs-3.21-bioc\R\bin\R.exe CMD INSTALL CAFE StartedAt: 2025-02-20 16:41:59 -0500 (Thu, 20 Feb 2025) EndedAt: 2025-02-20 16:43:01 -0500 (Thu, 20 Feb 2025) EllapsedTime: 62.2 seconds RetCode: 0 Status: OK