Package: CAFE Version: 1.43.0 Command: rm -rf CAFE.buildbin-libdir && mkdir CAFE.buildbin-libdir && E:\biocbuild\bbs-3.21-bioc\R\bin\R.exe CMD INSTALL --build --library=CAFE.buildbin-libdir CAFE_1.43.0.tar.gz StartedAt: 2025-02-21 07:42:20 -0500 (Fri, 21 Feb 2025) EndedAt: 2025-02-21 07:43:27 -0500 (Fri, 21 Feb 2025) EllapsedTime: 66.8 seconds RetCode: 0 Status: OK PackageFile: CAFE_1.43.0.zip PackageFileSize: 4.692 MiB