Package: CAFE Version: 1.43.0 Command: /home/biocbuild/bbs-3.21-bioc/R/bin/R CMD check --install=check:CAFE.install-out.txt --library=/home/biocbuild/bbs-3.21-bioc/R/site-library --timings CAFE_1.43.0.tar.gz StartedAt: 2025-02-19 20:31:46 -0500 (Wed, 19 Feb 2025) EndedAt: 2025-02-19 20:38:01 -0500 (Wed, 19 Feb 2025) EllapsedTime: 375.4 seconds RetCode: 0 Status: WARNINGS CheckDir: CAFE.Rcheck Warnings: 1