Package: CAEN Version: 1.15.0 Command: E:\biocbuild\bbs-3.21-bioc\R\bin\R.exe CMD check --no-multiarch --install=check:CAEN.install-out.txt --library=E:\biocbuild\bbs-3.21-bioc\R\library --no-vignettes --timings CAEN_1.15.0.tar.gz StartedAt: 2025-02-20 23:29:54 -0500 (Thu, 20 Feb 2025) EndedAt: 2025-02-20 23:32:44 -0500 (Thu, 20 Feb 2025) EllapsedTime: 169.2 seconds RetCode: 0 Status: OK CheckDir: CAEN.Rcheck Warnings: 0