Package: CAEN Version: 1.15.0 Command: chmod a+r CAEN -R && E:\biocbuild\bbs-3.21-bioc\R\bin\R.exe CMD build --keep-empty-dirs --no-resave-data CAEN StartedAt: 2025-02-20 17:39:44 -0500 (Thu, 20 Feb 2025) EndedAt: 2025-02-20 17:42:37 -0500 (Thu, 20 Feb 2025) EllapsedTime: 173.7 seconds RetCode: 0 Status: OK PackageFile: CAEN_1.15.0.tar.gz PackageFileSize: 988.5 KiB