Package: CAEN Version: 1.15.0 Command: /home/biocbuild/bbs-3.21-bioc/R/bin/R CMD INSTALL CAEN StartedAt: 2025-02-20 15:51:42 -0500 (Thu, 20 Feb 2025) EndedAt: 2025-02-20 15:52:03 -0500 (Thu, 20 Feb 2025) EllapsedTime: 20.7 seconds RetCode: 0 Status: OK