Package: BumpyMatrix Version: 1.15.0 Command: /home/biocbuild/bbs-3.21-bioc/R/bin/R CMD INSTALL BumpyMatrix StartedAt: 2025-02-19 15:14:10 -0500 (Wed, 19 Feb 2025) EndedAt: 2025-02-19 15:14:25 -0500 (Wed, 19 Feb 2025) EllapsedTime: 14.9 seconds RetCode: 0 Status: OK