Package: BumpyMatrix Version: 1.15.0 Command: /Library/Frameworks/R.framework/Resources/bin/R CMD build --keep-empty-dirs --no-resave-data BumpyMatrix StartedAt: 2025-02-19 16:05:39 -0500 (Wed, 19 Feb 2025) EndedAt: 2025-02-19 16:06:03 -0500 (Wed, 19 Feb 2025) EllapsedTime: 24.0 seconds RetCode: 0 Status: OK PackageFile: BumpyMatrix_1.15.0.tar.gz PackageFileSize: 317.5 KiB