Package: BumpyMatrix Version: 1.15.0 Command: /Library/Frameworks/R.framework/Resources/bin/R CMD INSTALL BumpyMatrix StartedAt: 2025-02-19 15:02:50 -0500 (Wed, 19 Feb 2025) EndedAt: 2025-02-19 15:02:58 -0500 (Wed, 19 Feb 2025) EllapsedTime: 8.0 seconds RetCode: 0 Status: OK