Package: BufferedMatrixMethods Version: 1.72.0 Command: /Library/Frameworks/R.framework/Resources/bin/R CMD INSTALL BufferedMatrixMethods StartedAt: 2025-10-02 15:05:13 -0400 (Thu, 02 Oct 2025) EndedAt: 2025-10-02 15:05:37 -0400 (Thu, 02 Oct 2025) EllapsedTime: 23.6 seconds RetCode: 0 Status: OK