Package: BufferedMatrixMethods Version: 1.72.0 Command: /Library/Frameworks/R.framework/Resources/bin/R CMD build --keep-empty-dirs --no-resave-data BufferedMatrixMethods StartedAt: 2025-10-02 17:34:15 -0400 (Thu, 02 Oct 2025) EndedAt: 2025-10-02 17:34:17 -0400 (Thu, 02 Oct 2025) EllapsedTime: 2.2 seconds RetCode: 0 Status: OK PackageFile: BufferedMatrixMethods_1.72.0.tar.gz PackageFileSize: 10.86 KiB