Package: BufferedMatrix Version: 1.71.1 Command: E:\biocbuild\bbs-3.21-bioc\R\bin\R.exe CMD check --no-multiarch --install=check:BufferedMatrix.install-out.txt --library=E:\biocbuild\bbs-3.21-bioc\R\library --no-vignettes --timings BufferedMatrix_1.71.1.tar.gz StartedAt: 2025-02-17 23:06:41 -0500 (Mon, 17 Feb 2025) EndedAt: 2025-02-17 23:09:45 -0500 (Mon, 17 Feb 2025) EllapsedTime: 184.1 seconds RetCode: 0 Status: OK CheckDir: BufferedMatrix.Rcheck Warnings: 0