Package: BufferedMatrix Version: 1.71.1 Command: chmod a+r BufferedMatrix -R && E:\biocbuild\bbs-3.21-bioc\R\bin\R.exe CMD build --keep-empty-dirs --no-resave-data BufferedMatrix StartedAt: 2025-02-17 17:32:50 -0500 (Mon, 17 Feb 2025) EndedAt: 2025-02-17 17:33:41 -0500 (Mon, 17 Feb 2025) EllapsedTime: 51.4 seconds RetCode: 0 Status: OK PackageFile: BufferedMatrix_1.71.1.tar.gz PackageFileSize: 490.4 KiB