Package: BufferedMatrix Version: 1.71.1 Command: rm -rf BufferedMatrix.buildbin-libdir && mkdir BufferedMatrix.buildbin-libdir && E:\biocbuild\bbs-3.21-bioc\R\bin\R.exe CMD INSTALL --build --library=BufferedMatrix.buildbin-libdir BufferedMatrix_1.71.1.tar.gz StartedAt: 2025-02-18 06:57:57 -0500 (Tue, 18 Feb 2025) EndedAt: 2025-02-18 07:00:52 -0500 (Tue, 18 Feb 2025) EllapsedTime: 175.4 seconds RetCode: 0 Status: OK PackageFile: BufferedMatrix_1.71.1.zip PackageFileSize: 572.1 KiB