Package: BufferedMatrix Version: 1.71.1 Command: /home/biocbuild/bbs-3.21-bioc/R/bin/R CMD INSTALL BufferedMatrix StartedAt: 2025-02-19 15:03:03 -0500 (Wed, 19 Feb 2025) EndedAt: 2025-02-19 15:03:14 -0500 (Wed, 19 Feb 2025) EllapsedTime: 11.2 seconds RetCode: 0 Status: OK