Package: BufferedMatrix Version: 1.71.1 Command: /Library/Frameworks/R.framework/Resources/bin/R CMD INSTALL BufferedMatrix StartedAt: 2025-02-17 15:01:03 -0500 (Mon, 17 Feb 2025) EndedAt: 2025-02-17 15:01:07 -0500 (Mon, 17 Feb 2025) EllapsedTime: 3.9 seconds RetCode: 0 Status: OK