Package: BufferedMatrix Version: 1.71.1 Command: /Library/Frameworks/R.framework/Resources/bin/R CMD check --install=check:BufferedMatrix.install-out.txt --library=/Library/Frameworks/R.framework/Resources/library --no-vignettes --timings BufferedMatrix_1.71.1.tar.gz StartedAt: 2025-02-17 18:19:40 -0500 (Mon, 17 Feb 2025) EndedAt: 2025-02-17 18:19:56 -0500 (Mon, 17 Feb 2025) EllapsedTime: 16.2 seconds RetCode: 0 Status: WARNINGS CheckDir: BufferedMatrix.Rcheck Warnings: 1