Package: BufferedMatrix Version: 1.71.1 Command: rm -rf BufferedMatrix.buildbin-libdir && mkdir BufferedMatrix.buildbin-libdir && /Users/biocbuild/BBS/utils/build-universal.sh BufferedMatrix_1.71.1.tar.gz /Library/Frameworks/R.framework/Resources/bin/R BufferedMatrix.buildbin-libdir StartedAt: 2025-02-17 22:11:03 -0500 (Mon, 17 Feb 2025) EndedAt: 2025-02-17 22:11:06 -0500 (Mon, 17 Feb 2025) EllapsedTime: 3.1 seconds RetCode: 0 Status: OK PackageFile: BufferedMatrix_1.71.1.tgz PackageFileSize: 707.2 KiB