Package: BubbleTree Version: 2.37.0 Command: E:\biocbuild\bbs-3.21-bioc\R\bin\R.exe CMD check --no-multiarch --install=check:BubbleTree.install-out.txt --library=E:\biocbuild\bbs-3.21-bioc\R\library --no-vignettes --timings BubbleTree_2.37.0.tar.gz StartedAt: 2025-02-19 23:14:54 -0500 (Wed, 19 Feb 2025) EndedAt: 2025-02-19 23:22:03 -0500 (Wed, 19 Feb 2025) EllapsedTime: 429.4 seconds RetCode: 0 Status: OK CheckDir: BubbleTree.Rcheck Warnings: 0