Package: BubbleTree Version: 2.37.0 Command: /home/biocbuild/bbs-3.21-bioc/R/bin/R CMD build --keep-empty-dirs --no-resave-data BubbleTree StartedAt: 2025-02-18 16:25:20 -0500 (Tue, 18 Feb 2025) EndedAt: 2025-02-18 16:27:50 -0500 (Tue, 18 Feb 2025) EllapsedTime: 150.1 seconds RetCode: 0 Status: OK PackageFile: BubbleTree_2.37.0.tar.gz PackageFileSize: 27.9 MiB