Package: BubbleTree Version: 2.37.0 Command: /Library/Frameworks/R.framework/Resources/bin/R CMD build --keep-empty-dirs --no-resave-data BubbleTree StartedAt: 2025-02-19 16:05:11 -0500 (Wed, 19 Feb 2025) EndedAt: 2025-02-19 16:07:36 -0500 (Wed, 19 Feb 2025) EllapsedTime: 145.1 seconds RetCode: 0 Status: OK PackageFile: BubbleTree_2.37.0.tar.gz PackageFileSize: 27.85 MiB