Package: BrowserViz Version: 2.29.0 Command: E:\biocbuild\bbs-3.21-bioc\R\bin\R.exe CMD INSTALL BrowserViz StartedAt: 2025-02-19 15:29:20 -0500 (Wed, 19 Feb 2025) EndedAt: 2025-02-19 15:29:58 -0500 (Wed, 19 Feb 2025) EllapsedTime: 38.2 seconds RetCode: 0 Status: OK