Package: BrowserViz Version: 2.29.0 Command: /home/biocbuild/bbs-3.21-bioc/R/bin/R CMD build --keep-empty-dirs --no-resave-data BrowserViz StartedAt: 2025-02-19 16:27:14 -0500 (Wed, 19 Feb 2025) EndedAt: 2025-02-19 16:27:20 -0500 (Wed, 19 Feb 2025) EllapsedTime: 6.0 seconds RetCode: 0 Status: OK PackageFile: BrowserViz_2.29.0.tar.gz PackageFileSize: 240.9 KiB