Package: BridgeDbR Version: 2.17.1 Command: /Library/Frameworks/R.framework/Resources/bin/R CMD build --keep-empty-dirs --no-resave-data BridgeDbR StartedAt: 2025-02-19 15:45:17 -0500 (Wed, 19 Feb 2025) EndedAt: 2025-02-19 15:45:20 -0500 (Wed, 19 Feb 2025) EllapsedTime: 3.0 seconds RetCode: 0 Status: OK PackageFile: BridgeDbR_2.17.1.tar.gz PackageFileSize: 4.615 MiB