Package: BloodGen3Module Version: 1.15.0 Command: chmod a+r BloodGen3Module -R && E:\biocbuild\bbs-3.21-bioc\R\bin\R.exe CMD build --keep-empty-dirs --no-resave-data BloodGen3Module StartedAt: 2025-02-20 17:36:06 -0500 (Thu, 20 Feb 2025) EndedAt: 2025-02-20 17:37:42 -0500 (Thu, 20 Feb 2025) EllapsedTime: 96.7 seconds RetCode: 0 Status: OK PackageFile: BloodGen3Module_1.15.0.tar.gz PackageFileSize: 179 KiB