Package: BloodGen3Module Version: 1.15.0 Command: rm -rf BloodGen3Module.buildbin-libdir && mkdir BloodGen3Module.buildbin-libdir && E:\biocbuild\bbs-3.21-bioc\R\bin\R.exe CMD INSTALL --build --library=BloodGen3Module.buildbin-libdir BloodGen3Module_1.15.0.tar.gz StartedAt: 2025-02-21 07:40:45 -0500 (Fri, 21 Feb 2025) EndedAt: 2025-02-21 07:42:17 -0500 (Fri, 21 Feb 2025) EllapsedTime: 92.4 seconds RetCode: 0 Status: OK PackageFile: BloodGen3Module_1.15.0.zip PackageFileSize: 245.2 KiB