Package: BloodGen3Module Version: 1.15.0 Command: /Library/Frameworks/R.framework/Resources/bin/R CMD INSTALL BloodGen3Module StartedAt: 2025-02-19 15:26:21 -0500 (Wed, 19 Feb 2025) EndedAt: 2025-02-19 15:26:34 -0500 (Wed, 19 Feb 2025) EllapsedTime: 12.9 seconds RetCode: 0 Status: OK