Package: Biostrings Version: 2.75.3 Command: /home/biocbuild/bbs-3.21-bioc/R/bin/R CMD build --keep-empty-dirs --no-resave-data Biostrings StartedAt: 2025-02-19 16:23:37 -0500 (Wed, 19 Feb 2025) EndedAt: 2025-02-19 16:24:27 -0500 (Wed, 19 Feb 2025) EllapsedTime: 50.0 seconds RetCode: 0 Status: OK PackageFile: Biostrings_2.75.3.tar.gz PackageFileSize: 12.22 MiB