Package: Biostrings Version: 2.75.3 Command: /Library/Frameworks/R.framework/Resources/bin/R CMD check --install=check:Biostrings.install-out.txt --library=/Library/Frameworks/R.framework/Resources/library --no-vignettes --timings Biostrings_2.75.3.tar.gz StartedAt: 2025-02-19 19:08:45 -0500 (Wed, 19 Feb 2025) EndedAt: 2025-02-19 19:20:39 -0500 (Wed, 19 Feb 2025) EllapsedTime: 713.8 seconds RetCode: 0 Status: WARNINGS CheckDir: Biostrings.Rcheck Warnings: 1