Package: BiocWorkflowTools Version: 1.33.0 Command: chmod a+r BiocWorkflowTools -R && E:\biocbuild\bbs-3.21-bioc\R\bin\R.exe CMD build --keep-empty-dirs --no-resave-data BiocWorkflowTools StartedAt: 2025-02-19 17:31:22 -0500 (Wed, 19 Feb 2025) EndedAt: 2025-02-19 17:31:58 -0500 (Wed, 19 Feb 2025) EllapsedTime: 35.1 seconds RetCode: 0 Status: OK PackageFile: BiocWorkflowTools_1.33.0.tar.gz PackageFileSize: 974.9 KiB