Package: BiocWorkflowTools Version: 1.33.0 Command: rm -rf BiocWorkflowTools.buildbin-libdir && mkdir BiocWorkflowTools.buildbin-libdir && E:\biocbuild\bbs-3.21-bioc\R\bin\R.exe CMD INSTALL --build --library=BiocWorkflowTools.buildbin-libdir BiocWorkflowTools_1.33.0.tar.gz StartedAt: 2025-02-20 07:21:28 -0500 (Thu, 20 Feb 2025) EndedAt: 2025-02-20 07:22:22 -0500 (Thu, 20 Feb 2025) EllapsedTime: 54.3 seconds RetCode: 0 Status: OK PackageFile: BiocWorkflowTools_1.33.0.zip PackageFileSize: 694.2 KiB