Package: BiocWorkflowTools Version: 1.33.0 Command: /home/biocbuild/bbs-3.21-bioc/R/bin/R CMD check --install=check:BiocWorkflowTools.install-out.txt --library=/home/biocbuild/bbs-3.21-bioc/R/site-library --timings BiocWorkflowTools_1.33.0.tar.gz StartedAt: 2025-02-19 20:20:46 -0500 (Wed, 19 Feb 2025) EndedAt: 2025-02-19 20:21:13 -0500 (Wed, 19 Feb 2025) EllapsedTime: 27.1 seconds RetCode: 0 Status: OK CheckDir: BiocWorkflowTools.Rcheck Warnings: 0