Package: BiocWorkflowTools Version: 1.33.0 Command: /Library/Frameworks/R.framework/Resources/bin/R CMD INSTALL BiocWorkflowTools StartedAt: 2025-02-19 15:25:12 -0500 (Wed, 19 Feb 2025) EndedAt: 2025-02-19 15:25:17 -0500 (Wed, 19 Feb 2025) EllapsedTime: 4.8 seconds RetCode: 0 Status: OK