Package: BiocVersion Version: 3.21.1 Command: /Library/Frameworks/R.framework/Resources/bin/R CMD build --keep-empty-dirs --no-resave-data BiocVersion StartedAt: 2025-02-19 16:01:01 -0500 (Wed, 19 Feb 2025) EndedAt: 2025-02-19 16:01:02 -0500 (Wed, 19 Feb 2025) EllapsedTime: 1.1 seconds RetCode: 0 Status: OK PackageFile: BiocVersion_3.21.1.tar.gz PackageFileSize: 997 bytes