Package: BiocVersion Version: 3.21.1 Command: rm -rf BiocVersion.buildbin-libdir && mkdir BiocVersion.buildbin-libdir && /Users/biocbuild/BBS/utils/build-universal.sh BiocVersion_3.21.1.tar.gz /Library/Frameworks/R.framework/Resources/bin/R BiocVersion.buildbin-libdir StartedAt: 2025-02-20 00:22:31 -0500 (Thu, 20 Feb 2025) EndedAt: 2025-02-20 00:22:36 -0500 (Thu, 20 Feb 2025) EllapsedTime: 4.7 seconds RetCode: 0 Status: OK PackageFile: BiocVersion_3.21.1.tgz PackageFileSize: 5.662 KiB