Package: BiocStyle Version: 2.35.0 Command: rm -rf BiocStyle.buildbin-libdir && mkdir BiocStyle.buildbin-libdir && E:\biocbuild\bbs-3.21-bioc\R\bin\R.exe CMD INSTALL --build --library=BiocStyle.buildbin-libdir BiocStyle_2.35.0.tar.gz StartedAt: 2025-02-21 07:39:18 -0500 (Fri, 21 Feb 2025) EndedAt: 2025-02-21 07:39:58 -0500 (Fri, 21 Feb 2025) EllapsedTime: 39.9 seconds RetCode: 0 Status: OK PackageFile: BiocStyle_2.35.0.zip PackageFileSize: 793.4 KiB