Package: BiocStyle Version: 2.35.0 Command: /home/biocbuild/bbs-3.21-bioc/R/bin/R CMD build --keep-empty-dirs --no-resave-data BiocStyle StartedAt: 2025-02-21 17:00:00 -0500 (Fri, 21 Feb 2025) EndedAt: 2025-02-21 17:00:11 -0500 (Fri, 21 Feb 2025) EllapsedTime: 11.0 seconds RetCode: 0 Status: OK PackageFile: BiocStyle_2.35.0.tar.gz PackageFileSize: 885.2 KiB