Package: BiocStyle Version: 2.35.0 Command: /Library/Frameworks/R.framework/Resources/bin/R CMD build --keep-empty-dirs --no-resave-data BiocStyle StartedAt: 2025-02-20 16:00:32 -0500 (Thu, 20 Feb 2025) EndedAt: 2025-02-20 16:00:48 -0500 (Thu, 20 Feb 2025) EllapsedTime: 16.0 seconds RetCode: 0 Status: OK PackageFile: BiocStyle_2.35.0.tar.gz PackageFileSize: 772.3 KiB