Package: BiocSklearn Version: 1.29.0 Command: rm -rf BiocSklearn.buildbin-libdir && mkdir BiocSklearn.buildbin-libdir && E:\biocbuild\bbs-3.21-bioc\R\bin\R.exe CMD INSTALL --build --library=BiocSklearn.buildbin-libdir BiocSklearn_1.29.0.tar.gz StartedAt: 2025-02-21 07:39:02 -0500 (Fri, 21 Feb 2025) EndedAt: 2025-02-21 07:39:44 -0500 (Fri, 21 Feb 2025) EllapsedTime: 42.4 seconds RetCode: 0 Status: OK PackageFile: BiocSklearn_1.29.0.zip PackageFileSize: 32.74 MiB