Package: BiocSklearn Version: 1.29.0 Command: /Library/Frameworks/R.framework/Resources/bin/R CMD check --install=check:BiocSklearn.install-out.txt --library=/Library/Frameworks/R.framework/Resources/library --no-vignettes --timings BiocSklearn_1.29.0.tar.gz StartedAt: 2025-02-20 19:06:18 -0500 (Thu, 20 Feb 2025) EndedAt: 2025-02-20 19:10:52 -0500 (Thu, 20 Feb 2025) EllapsedTime: 274.2 seconds RetCode: 0 Status: OK CheckDir: BiocSklearn.Rcheck Warnings: 0