Package: BiocSklearn Version: 1.29.0 Command: /Library/Frameworks/R.framework/Resources/bin/R CMD build --keep-empty-dirs --no-resave-data BiocSklearn StartedAt: 2025-02-20 16:00:29 -0500 (Thu, 20 Feb 2025) EndedAt: 2025-02-20 16:01:12 -0500 (Thu, 20 Feb 2025) EllapsedTime: 42.1 seconds RetCode: 0 Status: OK PackageFile: BiocSklearn_1.29.0.tar.gz PackageFileSize: 32.52 MiB