Package: BiocSklearn Version: 1.29.0 Command: /Library/Frameworks/R.framework/Resources/bin/R CMD INSTALL BiocSklearn StartedAt: 2025-02-20 15:04:42 -0500 (Thu, 20 Feb 2025) EndedAt: 2025-02-20 15:04:52 -0500 (Thu, 20 Feb 2025) EllapsedTime: 9.5 seconds RetCode: 0 Status: OK