Package: BiocSklearn Version: 1.29.0 Command: /Library/Frameworks/R.framework/Resources/bin/R CMD check --install=check:BiocSklearn.install-out.txt --library=/Library/Frameworks/R.framework/Resources/library --no-vignettes --timings BiocSklearn_1.29.0.tar.gz StartedAt: 2025-02-20 18:15:56 -0500 (Thu, 20 Feb 2025) EndedAt: 2025-02-20 18:16:58 -0500 (Thu, 20 Feb 2025) EllapsedTime: 62.8 seconds RetCode: 0 Status: OK CheckDir: BiocSklearn.Rcheck Warnings: 0