Package: BiocSklearn Version: 1.29.0 Command: rm -rf BiocSklearn.buildbin-libdir && mkdir BiocSklearn.buildbin-libdir && /Users/biocbuild/BBS/utils/build-universal.sh BiocSklearn_1.29.0.tar.gz /Library/Frameworks/R.framework/Resources/bin/R BiocSklearn.buildbin-libdir StartedAt: 2025-02-20 22:11:43 -0500 (Thu, 20 Feb 2025) EndedAt: 2025-02-20 22:11:54 -0500 (Thu, 20 Feb 2025) EllapsedTime: 11.2 seconds RetCode: 0 Status: OK PackageFile: BiocSklearn_1.29.0.tgz PackageFileSize: 32.74 MiB