Package: BiocSingular Version: 1.23.0 Command: E:\biocbuild\bbs-3.21-bioc\R\bin\R.exe CMD INSTALL BiocSingular StartedAt: 2025-02-20 16:45:52 -0500 (Thu, 20 Feb 2025) EndedAt: 2025-02-20 16:47:26 -0500 (Thu, 20 Feb 2025) EllapsedTime: 94.2 seconds RetCode: 0 Status: OK