Package: BiocSingular Version: 1.23.0 Command: /Library/Frameworks/R.framework/Resources/bin/R CMD INSTALL BiocSingular StartedAt: 2025-02-20 15:37:34 -0500 (Thu, 20 Feb 2025) EndedAt: 2025-02-20 15:38:10 -0500 (Thu, 20 Feb 2025) EllapsedTime: 36.3 seconds RetCode: 0 Status: OK